BEGIN:VCALENDAR
VERSION:2.0
PRODID:-//Mississippi Sound Coalition - ECPv6.6.3//NONSGML v1.0//EN
CALSCALE:GREGORIAN
METHOD:PUBLISH
X-WR-CALNAME:Mississippi Sound Coalition
X-ORIGINAL-URL:https://saveoursoundms.org
X-WR-CALDESC:Events for Mississippi Sound Coalition
REFRESH-INTERVAL;VALUE=DURATION:PT1H
X-Robots-Tag:noindex
X-PUBLISHED-TTL:PT1H
BEGIN:VTIMEZONE
TZID:America/Chicago
BEGIN:DAYLIGHT
TZOFFSETFROM:-0600
TZOFFSETTO:-0500
TZNAME:CDT
DTSTART:20250309T080000
END:DAYLIGHT
BEGIN:STANDARD
TZOFFSETFROM:-0500
TZOFFSETTO:-0600
TZNAME:CST
DTSTART:20251102T070000
END:STANDARD
END:VTIMEZONE
BEGIN:VEVENT
DTSTART;TZID=America/Chicago:20250115T113000
DTEND;TZID=America/Chicago:20250115T130000
DTSTAMP:20260422T084216
CREATED:20250214T202518Z
LAST-MODIFIED:20250214T202518Z
UID:10000048-1736940600-1736946000@saveoursoundms.org
SUMMARY:Harrison County Rebublican Club Meeting
DESCRIPTION:Gerald Blessey\, Coalition General Manager and Co Counsel was the Guest Speaker and gave a presentation regarding the U.S. Army Corps of Engineers ongoing Lower Mississippi Comprehensive Management Study and impacts of the Bonnet Carré Spillway on the Mississippi Sound.
URL:https://saveoursoundms.org/event/harrison-county-rebublican-club-meeting/
LOCATION:Great Southern Club\, 2510 14th Street\, Gulfport\, MS\, 39501\, United States
END:VEVENT
END:VCALENDAR