BEGIN:VCALENDAR
VERSION:2.0
PRODID:-//Mississippi Sound Coalition - ECPv6.6.3//NONSGML v1.0//EN
CALSCALE:GREGORIAN
METHOD:PUBLISH
X-ORIGINAL-URL:https://saveoursoundms.org
X-WR-CALDESC:Events for Mississippi Sound Coalition
REFRESH-INTERVAL;VALUE=DURATION:PT1H
X-Robots-Tag:noindex
X-PUBLISHED-TTL:PT1H
BEGIN:VTIMEZONE
TZID:America/Chicago
BEGIN:DAYLIGHT
TZOFFSETFROM:-0600
TZOFFSETTO:-0500
TZNAME:CDT
DTSTART:20240310T080000
END:DAYLIGHT
BEGIN:STANDARD
TZOFFSETFROM:-0500
TZOFFSETTO:-0600
TZNAME:CST
DTSTART:20241103T070000
END:STANDARD
END:VTIMEZONE
BEGIN:VEVENT
DTSTART;TZID=America/Chicago:20240314T100000
DTEND;TZID=America/Chicago:20240314T120000
DTSTAMP:20260424T000118
CREATED:20240403T205825Z
LAST-MODIFIED:20240410T203340Z
UID:10000013-1710410400-1710417600@saveoursoundms.org
SUMMARY:Scientific Research Forum
DESCRIPTION:Our topic will be the Mississippi Sound. Join us to hear from experts in the field discussing the Mississippi Sound estuary and steps we can take to preserve the Sound and its natural beauty. This event is open to the public and offers free admission. \nWatch the video!  \nThe Coalition held its first Scientific Research Forum\, where Scientists from The University of Southern Mississippi\, Northern Gulf Institute and Mississippi State University took the stage to share their ongoing research into the aftermath of the 2019 Bonnet Carré Spillway opening and the intricate effects of Mississippi River water on our ecological systems.
URL:https://saveoursoundms.org/event/scientific-research-forum/
LOCATION:Knight Nonprofit Center\, 11975 Seaway Rd\, Gulfport\, MS\, 39503\, United States
ATTACH;FMTTYPE=image/jpeg:https://saveoursoundms.org/wp-content/uploads/2024/04/research_forum_event.jpg
END:VEVENT
BEGIN:VEVENT
DTSTART;TZID=America/Chicago:20240321T103000
DTEND;TZID=America/Chicago:20240321T120000
DTSTAMP:20260424T000118
CREATED:20240412T172100Z
LAST-MODIFIED:20240429T192208Z
UID:10000028-1711017000-1711022400@saveoursoundms.org
SUMMARY:IMMS Rehabilitated Sea Turtle Release
DESCRIPTION:Hundreds of students teamed up with IMMS to release Kemp’s ridley sea turtles\, the most endangered in the world\, into the Mississippi Sound on Biloxi Beach yesterday. This event is a testament to the ongoing efforts of Dr. Moby Solangi\, IMMS Executive Director and Chairman of Mississippi Sound Coalition’s Science Committee\, and his team to revitalize our ecosystem and #SaveOurSound.\n\nWatch WLOX’s coverage!
URL:https://saveoursoundms.org/event/imms-rehabilitated-sea-turtle-release/
ATTACH;FMTTYPE=image/jpeg:https://saveoursoundms.org/wp-content/uploads/2024/04/IMMS_Sea-Turte-Release_Mississippi_-Sound-1.jpg
END:VEVENT
END:VCALENDAR