BEGIN:VCALENDAR
VERSION:2.0
PRODID:-//Mississippi Sound Coalition - ECPv6.6.3//NONSGML v1.0//EN
CALSCALE:GREGORIAN
METHOD:PUBLISH
X-ORIGINAL-URL:https://saveoursoundms.org
X-WR-CALDESC:Events for Mississippi Sound Coalition
REFRESH-INTERVAL;VALUE=DURATION:PT1H
X-Robots-Tag:noindex
X-PUBLISHED-TTL:PT1H
BEGIN:VTIMEZONE
TZID:America/Chicago
BEGIN:DAYLIGHT
TZOFFSETFROM:-0600
TZOFFSETTO:-0500
TZNAME:CDT
DTSTART:20240310T080000
END:DAYLIGHT
BEGIN:STANDARD
TZOFFSETFROM:-0500
TZOFFSETTO:-0600
TZNAME:CST
DTSTART:20241103T070000
END:STANDARD
BEGIN:DAYLIGHT
TZOFFSETFROM:-0600
TZOFFSETTO:-0500
TZNAME:CDT
DTSTART:20250309T080000
END:DAYLIGHT
BEGIN:STANDARD
TZOFFSETFROM:-0500
TZOFFSETTO:-0600
TZNAME:CST
DTSTART:20251102T070000
END:STANDARD
TZID:America/New_York
BEGIN:DAYLIGHT
TZOFFSETFROM:-0500
TZOFFSETTO:-0400
TZNAME:EDT
DTSTART:20250309T070000
END:DAYLIGHT
BEGIN:STANDARD
TZOFFSETFROM:-0400
TZOFFSETTO:-0500
TZNAME:EST
DTSTART:20251102T060000
END:STANDARD
END:VTIMEZONE
BEGIN:VEVENT
DTSTART;TZID=America/Chicago:20240227T140000
DTEND;TZID=America/Chicago:20240227T200000
DTSTAMP:20260422T040415
CREATED:20240429T205128Z
LAST-MODIFIED:20240429T205128Z
UID:10000037-1709042400-1709064000@saveoursoundms.org
SUMMARY:U.S. Army Corps of Engineers Public Meeting
DESCRIPTION:Mark Your Calendars! The U.S. Army Corps of Engineers will host two public scoping meetings for the Lower Mississippi River Comprehensive Management Study (LMR Comp) on Tuesday\, February 27th at Hancock County Library. \nAddress: 312 Hwy 90\, Bay St. Louis\, MS 39520 \nMeeting Times: 2-4 PM & 6-8 PM \nThe Mississippi Sound Coalition (MSSC) recommends that Mississippians attend and comment at a meeting or submit comments online. \nHOW CAN YOU CONTRIBUTE? \nParticipate in the Public Scoping Meetings in late February and early March either in-person or online. \nDuring the Public Scoping Meetings\, we want to learn from you: \n\nRegional NEEDS or PLANS that the Corps should be aware of and take into consideration\nOPPORTUNITIES you’d like to see realized (or not see)\nRecommendations for how to address the major CONCERNS you have about the Lower Mississippi River/Bonnet Carré Spillway\nCHANGES you’d like to see to the management of the Lower Mississippi River\nIdeas for how the Corps should COMMUNICATE with you throughout the Study process\nThe purpose of the study is to identify recommendations for the comprehensive management of the region across multiple purposes\, including: hurricane and storm damage reduction\, flood risk management\, structure and nonstructural flood control\, floodplain management strategies\, navigation\, ecosystem and environmental restoration\, water supply\, hydropower production\, recreation\, and other purposes as determined by the Secretary of the Army.\n\nThe study area encompasses seven states: Arkansas\, Illinois\, Kentucky\, Louisiana\, Mississippi\, Missouri and Tennessee. Because of the size and scope of the study\, active participation and collaboration from the public and stakeholders throughout the five-year endeavor will be critical to identifying practical and sustainable recommendations for successful management of the river.
URL:https://saveoursoundms.org/event/u-s-army-corps-of-engineers-public-meeting/
LOCATION:Hancock County Library\, 312 Hwy 90\, Bay St. Louis\, MS\, 39520\, United States
ATTACH;FMTTYPE=image/jpeg:https://saveoursoundms.org/wp-content/uploads/2024/04/Corps-of-engineers-public-meeting-sos.jpg
END:VEVENT
BEGIN:VEVENT
DTSTART;TZID=America/Chicago:20240314T100000
DTEND;TZID=America/Chicago:20240314T120000
DTSTAMP:20260422T040415
CREATED:20240403T205825Z
LAST-MODIFIED:20240410T203340Z
UID:10000013-1710410400-1710417600@saveoursoundms.org
SUMMARY:Scientific Research Forum
DESCRIPTION:Our topic will be the Mississippi Sound. Join us to hear from experts in the field discussing the Mississippi Sound estuary and steps we can take to preserve the Sound and its natural beauty. This event is open to the public and offers free admission. \nWatch the video!  \nThe Coalition held its first Scientific Research Forum\, where Scientists from The University of Southern Mississippi\, Northern Gulf Institute and Mississippi State University took the stage to share their ongoing research into the aftermath of the 2019 Bonnet Carré Spillway opening and the intricate effects of Mississippi River water on our ecological systems.
URL:https://saveoursoundms.org/event/scientific-research-forum/
LOCATION:Knight Nonprofit Center\, 11975 Seaway Rd\, Gulfport\, MS\, 39503\, United States
ATTACH;FMTTYPE=image/jpeg:https://saveoursoundms.org/wp-content/uploads/2024/04/research_forum_event.jpg
END:VEVENT
BEGIN:VEVENT
DTSTART;TZID=America/Chicago:20240321T103000
DTEND;TZID=America/Chicago:20240321T120000
DTSTAMP:20260422T040415
CREATED:20240412T172100Z
LAST-MODIFIED:20240429T192208Z
UID:10000028-1711017000-1711022400@saveoursoundms.org
SUMMARY:IMMS Rehabilitated Sea Turtle Release
DESCRIPTION:Hundreds of students teamed up with IMMS to release Kemp’s ridley sea turtles\, the most endangered in the world\, into the Mississippi Sound on Biloxi Beach yesterday. This event is a testament to the ongoing efforts of Dr. Moby Solangi\, IMMS Executive Director and Chairman of Mississippi Sound Coalition’s Science Committee\, and his team to revitalize our ecosystem and #SaveOurSound.\n\nWatch WLOX’s coverage!
URL:https://saveoursoundms.org/event/imms-rehabilitated-sea-turtle-release/
ATTACH;FMTTYPE=image/jpeg:https://saveoursoundms.org/wp-content/uploads/2024/04/IMMS_Sea-Turte-Release_Mississippi_-Sound-1.jpg
END:VEVENT
BEGIN:VEVENT
DTSTART;TZID=America/Chicago:20240406T100000
DTEND;TZID=America/Chicago:20240406T150000
DTSTAMP:20260422T040415
CREATED:20240403T210718Z
LAST-MODIFIED:20240410T203301Z
UID:10000014-1712397600-1712415600@saveoursoundms.org
SUMMARY:Celebrate the Gulf
DESCRIPTION:Celebrate the Gulf Marine Education Festival was first established in 1991 to teach residents and visitors about the importance of the Gulf of Mexico. The festival is held the first Saturday in April under the beautiful canopy of the live oak trees in Memorial Park in Pass Christian\, Mississippi in conjunction with our sister festival\, Art in the Pass. \nPlease come by our booth!
URL:https://saveoursoundms.org/event/celebrate-the-gulf/
LOCATION:Memorial Park\, Highway 90 &\, Fleitas Ave\, Pass Christian\, 39571\, United States
ATTACH;FMTTYPE=image/jpeg:https://saveoursoundms.org/wp-content/uploads/2024/04/MS_sound_600x400.jpg
END:VEVENT
BEGIN:VEVENT
DTSTART;TZID=America/Chicago:20240420T100000
DTEND;TZID=America/Chicago:20240420T143000
DTSTAMP:20260422T040415
CREATED:20240404T141917Z
LAST-MODIFIED:20240410T203233Z
UID:10000015-1713607200-1713623400@saveoursoundms.org
SUMMARY:Earth Day Ocean Springs
DESCRIPTION:Come visit our booth at Earth Day Ocean Springs. Join us as the OS Environmental Alliance celebrates Earth Day with informational booths\, family fun\, and music at the Mary C. O’Keefe Cultural Arts Center.
URL:https://saveoursoundms.org/event/earth-day-ocean-springs/
LOCATION:Mary C. O’Keefe Cultural Arts Center\, 1600 Government St\, Ocean Springs\, MS\, 39564\, United States
ATTACH;FMTTYPE=image/jpeg:https://saveoursoundms.org/wp-content/uploads/2024/04/earth-day-600x400-1.jpg
END:VEVENT
BEGIN:VEVENT
DTSTART;TZID=America/Chicago:20240511T100000
DTEND;TZID=America/Chicago:20240511T150000
DTSTAMP:20260422T040415
CREATED:20240423T173050Z
LAST-MODIFIED:20240424T144026Z
UID:10000029-1715421600-1715439600@saveoursoundms.org
SUMMARY:Marine Discovery Day
DESCRIPTION:Want to learn about shark biology or how shrimp are caught? Curious about Mississippi’s marine fishes? Then this is the event for you!  \nMDWF’s Mississippi Museum of Natural Science\, along with the Mississippi Department of Marine Resources and other coastal agencies and organizations\, will host fun and informative activities and demonstrations about Mississippi’s coastal resources\, the seafood industry\, and fishing! \nSo\, join us for a day of maritime fun as we explore the life of sharks and other marine fishes with our coastal biology experts! \n* This event is suitable for the whole family and is included with MMNS Foundation Membership or regular Museum admission. \nADMISSION: \n\nAdults: $8\nYouth (Ages 3-18): $6\nSenior Citizens 60 and Over: $7\nChildren Under 3: FREE\nSchool Teachers with Classes: $3 per student\n\nEXHIBITORS: \n\nLearn about coastal birds and their habitats\, including Least Terns\, a local nester on Mississippi’s beaches with Audubon Delta. The station will include hands-on materials\, a mock stewarding station\, and information about our bird banding projects.\nLearn about a living dinosaur with the USM Marine Education Center! The Gulf Sturgeon is a fascinating creature that calls the rivers and stream of Southern Mississippi its home. The Marine Education Center will be bringing their Surging Sturgeon activities to Marine Resources Day.\n\nEXHIBITORS AND ACTIVITIES INCLUDE: \n\nAudubon Delta: Learn about coastal birds and their habitats\, including Least Terns\, a local nester on Mississippi’s beaches. The station will include hands-on materials\, a mock stewarding station\, and information about bird banding projects.\n\nUSM Marine Education Center: Learn about a living dinosaur with their Surging Sturgeon activities! The Gulf Sturgeon is a fascinating creature that calls the rivers and streams of Southern Mississippi its home. \n\nCheck back soon for more.\n\n* Activities\, exhibitors\, and vendors\, subject to change.
URL:https://saveoursoundms.org/event/marine-discovery-day/
LOCATION:Mississippi Museum of Natural Science\, 2148 Riverside Dr\, Jackson\, MS\, 39202\, United States
ATTACH;FMTTYPE=image/jpeg:https://saveoursoundms.org/wp-content/uploads/2024/04/marine-day-discovery-600x400-1.jpg
END:VEVENT
BEGIN:VEVENT
DTSTART;TZID=America/Chicago:20240514T100000
DTEND;TZID=America/Chicago:20240514T100000
DTSTAMP:20260422T040415
CREATED:20240506T212428Z
LAST-MODIFIED:20240506T213519Z
UID:10000042-1715680800-1715680800@saveoursoundms.org
SUMMARY:General Membership Meeting
DESCRIPTION:  \nThe Mississippi Sound Coalition will be hosting a General Membership Meeting at 10 a.m. at the Hancock County Board of Supervisors meeting room. The public is welcome to attend. \nThis meeting will include a general update and discussion of Coalition activities and a discussion about stopping Louisiana’s Mid-Breton Sound Sediment Diversion Project.
URL:https://saveoursoundms.org/event/general-membership-meeting/
LOCATION:Hancock County Board of Supervisors\, 854 Highway 90\, Suite A\, Bay St. Louis\, MS\, MS\, 39520\, United States
ATTACH;FMTTYPE=image/jpeg:https://saveoursoundms.org/wp-content/uploads/2024/05/MSSC_HancockMeeting_announcement-e1715035052793.jpg
END:VEVENT
BEGIN:VEVENT
DTSTART;TZID=America/Chicago:20240518T100000
DTEND;TZID=America/Chicago:20240519T170000
DTSTAMP:20260422T040415
CREATED:20240410T203109Z
LAST-MODIFIED:20240423T181804Z
UID:10000027-1716026400-1716138000@saveoursoundms.org
SUMMARY:Billy Creel Memorial Gulf Coast Wooden & Classic Boat Show
DESCRIPTION:Please join us at this terrific event! Experience the charm of the Biloxi Schooners\, departing every hour on the hour while exploring our Marine Flea Market. Indulge in mouthwatering shrimp and fish plates and enjoy a plethora of demonstrations\, exhibits\, and crafts. Don’t miss the opportunity to tour a captivating collection of antique vessels. It’s a weekend you won’t want to miss! \nThe show will open on Sat. May 18 at 10 am- 6 pm. Sun. May 19 from 10 am- 5 pm. Admission: $5.00 adults\, $3.00 students (13-18)\, children under 12 free.
URL:https://saveoursoundms.org/event/billy-creel-memorial-gulf-coast-wooden-classic-boat-show/
ATTACH;FMTTYPE=image/jpeg:https://saveoursoundms.org/wp-content/uploads/2024/04/wooden-boats-event-cover.jpg
END:VEVENT
BEGIN:VEVENT
DTSTART;TZID=America/Chicago:20240518T110000
DTEND;TZID=America/Chicago:20240518T170000
DTSTAMP:20260422T040415
CREATED:20240423T174732Z
LAST-MODIFIED:20240423T174816Z
UID:10000030-1716030000-1716051600@saveoursoundms.org
SUMMARY:Pass Christian Blessing of the Fleet
DESCRIPTION:Pass Christian’s Annual Blessing of the Fleet will be held at the beautiful Pass Harbor on Saturday\, May 18th from 11 AM – 5 PM with a raincheck for Sunday\, May 19th\, if necessary. \nThis tradition is a time-honored event that brings alive our rich Catholic culture. There will be food and vendor booths\, as well as many activities for children and families\, including Touch a Truck! Information will be disseminated as we schedule the activities. We hope to see you there!
URL:https://saveoursoundms.org/event/pass-christian-blessing-of-the-fleet/
LOCATION:Pass Christian Harbor\, 115 S. Market St.\, Pass Christian\, MS\, 39571\, United States
ATTACH;FMTTYPE=image/jpeg:https://saveoursoundms.org/wp-content/uploads/2024/04/blessing-of-the-fleet-600x400-1.jpg
END:VEVENT
BEGIN:VEVENT
DTSTART;TZID=America/Chicago:20240601T100000
DTEND;TZID=America/Chicago:20240601T140000
DTSTAMP:20260422T040415
CREATED:20240423T182549Z
LAST-MODIFIED:20240423T182549Z
UID:10000032-1717236000-1717250400@saveoursoundms.org
SUMMARY:Sand Jam | Forces of Nature
DESCRIPTION:Join us for a day of family fun as we celebrate our Mississippi wildlife\, habitats\, and heritage! \nKayaking – Youth Fishing – Cornhole – Giveaways – Activity Booths – Temporary Tattoos – Art Contest – Treasure Hunt – Band – Birds of Prey Show \nFor more information\, contact Jackson County Recreation at 228-826-5330.
URL:https://saveoursoundms.org/event/sand-jam-forces-of-nature/
LOCATION:Pascagoula Beach Park\, 600 City Park Street\, Pascagoula\, MS\, 39567\, United States
ATTACH;FMTTYPE=image/jpeg:https://saveoursoundms.org/wp-content/uploads/2024/04/Sand-Jam-Forces-of-Nature.jpg
END:VEVENT
BEGIN:VEVENT
DTSTART;TZID=America/Chicago:20240820T160000
DTEND;TZID=America/Chicago:20240820T180000
DTSTAMP:20260422T040415
CREATED:20240806T183945Z
LAST-MODIFIED:20240806T190848Z
UID:10000046-1724169600-1724176800@saveoursoundms.org
SUMMARY:Public Information Meeting -- Jackson County
DESCRIPTION:Impacts of Bonnet Carré Spillway on the Mississippi Sound \nWe especially invite Jackson County residents to learn more about the Mississippi Sound Coalition’s (MSSC) mission and its efforts to fight the harmful effects of polluted fresh Mississippi River water coming into the Mississippi Sound through the Bonnet Carré Spillway and other existing and proposed releases of Mississippi River water. \nDate: Tuesday\, August 20\, 2024 at 4:00 PM\nLocation: Pascagoula Senior Center \nHors d’oeuvres from Tay’s BBQ will be served.\nFreshly shucked oysters complimentary of Eagle Point Oyster Co.
URL:https://saveoursoundms.org/event/public-information-meeting-jackson-county/
LOCATION:Pascagoula Senior Center\, 1912 Live Oak Ave\, Pascagoula
ATTACH;FMTTYPE=image/jpeg:https://saveoursoundms.org/wp-content/uploads/2024/08/Image-8-6-24-at-2.47 PM.jpeg
END:VEVENT
BEGIN:VEVENT
DTSTART;TZID=America/Chicago:20240914T090000
DTEND;TZID=America/Chicago:20240914T210000
DTSTAMP:20260422T040415
CREATED:20240802T184047Z
LAST-MODIFIED:20240802T184047Z
UID:10000044-1726304400-1726347600@saveoursoundms.org
SUMMARY:43rd Annual Biloxi Seafood Festival
DESCRIPTION:The 43rd Annual Biloxi Seafood Festival\, the Biloxi Chamber of Commerce’s biggest fundraiser\, celebrates the city’s seafood heritage. Attendees will enjoy live entertainment\, arts and crafts\, and the best seafood on the Mississippi Gulf Coast. \nONE DAY ONLY!\nSaturday\, September 14th | 9:00 a.m.-9:00 p.m.\n$5 Admission | 10 & Younger Free \n 
URL:https://saveoursoundms.org/event/43rd-annual-biloxi-seafood-festival/
LOCATION:Biloxi Town Green\, 710 Beach Blvd\, Biloxi\, MS\, 39530\, United States
ATTACH;FMTTYPE=image/jpeg:https://saveoursoundms.org/wp-content/uploads/2024/08/biloxi-seafood-fed-2024.jpeg
END:VEVENT
BEGIN:VEVENT
DTSTART;TZID=America/Chicago:20240928T100000
DTEND;TZID=America/Chicago:20240928T150000
DTSTAMP:20260422T040415
CREATED:20240802T184906Z
LAST-MODIFIED:20240802T185307Z
UID:10000045-1727517600-1727535600@saveoursoundms.org
SUMMARY:Resilient East Biloxi: Annual Community Festival
DESCRIPTION:Saturday\, September 28\, 2024 from 10 AM to 3 PM on Main St between Division St and Murray St in Biloxi\, MS \nResilient East Biloxi (REB) is pleased to announce its second annual Community Festival which is set for September 28th\, 2024! \nJoin us in celebrating the historic and cultural importance of East Biloxi while connecting with local community organizations and learning about ongoing community redevelopment projects. With this annual community festival\, we seek to build upon the principles of the Resilient East Biloxi program and provide a safe\, supportive\, and encouraging space for the community to express themselves and celebrate the steps we are taking toward a resilient future. This year our theme is “A Journey Through Time” focusing on the history of music\, culture\, and art\, while cultivating visions for East Biloxi’s resilient future. This event will feature activities for all ages including: \n\nLive entertainment\nLocal food and art vendors\nCommunity organizations & resources\nHorseback riding\nAnd more!\n\nPlanning to join the fun? Let us know on our Facebook event page! \nDon’t miss this opportunity to celebrate with us! For more information on how to be a part of this event\, visit our website at: \nhttps://placeslr.org/our-work/activeprojects/resilient-east-biloxi/community-festival/ \nEvent by Steps Coalition and Program for Local Adaptation to Climate Effects
URL:https://saveoursoundms.org/event/resilient-east-biloxi-annual-community-festival/
LOCATION:East Biloxi\, 255 Main Street\, Biloxi\, MS\, 39530\, United States
ATTACH;FMTTYPE=image/jpeg:https://saveoursoundms.org/wp-content/uploads/2024/08/RESILIENT-EAST-BILOXI-COMMUNITY-FESTIVAL.jpg
END:VEVENT
BEGIN:VEVENT
DTSTART;TZID=America/Chicago:20241024T173000
DTEND;TZID=America/Chicago:20241024T200000
DTSTAMP:20260422T040415
CREATED:20241025T135006Z
LAST-MODIFIED:20241030T191029Z
UID:10000047-1729791000-1729800000@saveoursoundms.org
SUMMARY:MSSC & EEECHO Event: Guest Speaker Derrick Christopher Evans
DESCRIPTION:Link to WLOX NEWS STORY \nCLICK HERE FOR PHOTOS FROM THIS EVENT \nThe Mississippi Sound Coalition (MSSC) and the Education\, Economics\, Environmental\, Climate & Health Organization (EEECHO) invite you to an informative presentation at The Almanett in Gulfport on Thursday\, October 24 at 5:30 PM featuring guest speaker Derrick Christopher Evans\, Director of Turkey Creek Community Initiatives. \nWHO: MSSC & EEECHO – featuring guest speaker Derrick Christopher Evans\, Director of Turkey Creek Community Initiatives \nWHAT: Supper & Information presented by Mississippi Sound Coalition   \nWHERE: The Almanett – 1514 18th Ave\, Gulfport\, MS 39501 \nWHEN: Thursday\, October 24\, 2024 @ 5:30 PM – Supper 6 PM\, program to follow. \nWHY: Together\, we can SAVE OUR SOUND! \nRSVP: Email info@eeecho.org or text/call 228-617-0891 by Oct. 20\, 2024.
URL:https://saveoursoundms.org/event/eeecho-dinner/
LOCATION:The Almanett\, 1514 18th Ave\, Gulfport\, MS\, 39501\, United States
ATTACH;FMTTYPE=image/png:https://saveoursoundms.org/wp-content/uploads/2024/10/DERRICK-C-EVANS--e1729868181114.png
END:VEVENT
BEGIN:VEVENT
DTSTART;TZID=America/Chicago:20241107T080000
DTEND;TZID=America/Chicago:20241107T170000
DTSTAMP:20260422T040415
CREATED:20240410T201133Z
LAST-MODIFIED:20240410T203211Z
UID:10000026-1730966400-1730998800@saveoursoundms.org
SUMMARY:Mississippi Department of Environmental Quality's Restoration Summit
DESCRIPTION:Join us to learn how you can get involved with restoration projects.The Mississippi Department of Environmental Quality is responsible for protecting the state’s air\, land\, and water. Their mission is to safeguard the health\, safety\, and welfare of present and future generations of Mississippians by conserving and improving our environment and fostering wise economic growth through focused research and responsible regulation.
URL:https://saveoursoundms.org/event/mississippi-department-of-environmental-qualitys-restoration-summit/
LOCATION:MGCC Hospitality Resort Management Center\, 420 Debuys Rd\, Biloxi\, 39531\, United States
ATTACH;FMTTYPE=image/jpeg:https://saveoursoundms.org/wp-content/uploads/2024/04/Restoration-Summit-event-cover.jpg
END:VEVENT
BEGIN:VEVENT
DTSTART;TZID=America/Chicago:20250115T113000
DTEND;TZID=America/Chicago:20250115T130000
DTSTAMP:20260422T040415
CREATED:20250214T202518Z
LAST-MODIFIED:20250214T202518Z
UID:10000048-1736940600-1736946000@saveoursoundms.org
SUMMARY:Harrison County Rebublican Club Meeting
DESCRIPTION:Gerald Blessey\, Coalition General Manager and Co Counsel was the Guest Speaker and gave a presentation regarding the U.S. Army Corps of Engineers ongoing Lower Mississippi Comprehensive Management Study and impacts of the Bonnet Carré Spillway on the Mississippi Sound.
URL:https://saveoursoundms.org/event/harrison-county-rebublican-club-meeting/
LOCATION:Great Southern Club\, 2510 14th Street\, Gulfport\, MS\, 39501\, United States
END:VEVENT
BEGIN:VEVENT
DTSTART;TZID=America/Chicago:20250206T113000
DTEND;TZID=America/Chicago:20250206T130000
DTSTAMP:20260422T040415
CREATED:20250214T205957Z
LAST-MODIFIED:20250214T205957Z
UID:10000049-1738841400-1738846800@saveoursoundms.org
SUMMARY:
DESCRIPTION:Gerald Blessey\, Coalition General Manager and Co Counsel was the Guest Speaker for a presentation regarding the U.S. Army Corps of Engineers ongoing Lower Mississippi Comprehensive Management Study and impacts of the Bonnet Carré Spillway on the Mississippi Sound.
URL:https://saveoursoundms.org/event/12462/
LOCATION:Diamoandhead Country Club\, 7600 Country Club\, Diamondhead\, MS\, 39525\, United States
END:VEVENT
BEGIN:VEVENT
DTSTART;TZID=America/New_York:20251001T100000
DTEND;TZID=America/New_York:20251001T120000
DTSTAMP:20260422T040415
CREATED:20251007T165531Z
LAST-MODIFIED:20251007T191751Z
UID:10000050-1759312800-1759320000@saveoursoundms.org
SUMMARY:Save Our Sound Public Update Meeting
DESCRIPTION:Mississippi Sound Coalition\, led by its Chairman\, Marlin Ladner\, held a Public Update Meeting on Wednesday\, Oct. 1 at the Institute for Marine Mammal Studies in Gulfport\, Mississippi. An audience of more than 70 people heard 11 different speakers speak briefly on: a new proposed Congressional Act\, restarting the Lower Mississippi River Comprehensive Management Study\, legal and legislative efforts\, economic impacts\, scientific studies and a planned Congressional field hearing on the Coast\, all centered around the Bonnet Carré Spillway’s devastating effects on the Mississippi Sound.
URL:https://saveoursoundms.org/event/save-our-sound-public-update-meeting/
END:VEVENT
END:VCALENDAR