BEGIN:VCALENDAR
VERSION:2.0
PRODID:-//Mississippi Sound Coalition - ECPv6.6.3//NONSGML v1.0//EN
CALSCALE:GREGORIAN
METHOD:PUBLISH
X-WR-CALNAME:Mississippi Sound Coalition
X-ORIGINAL-URL:https://saveoursoundms.org
X-WR-CALDESC:Events for Mississippi Sound Coalition
REFRESH-INTERVAL;VALUE=DURATION:PT1H
X-Robots-Tag:noindex
X-PUBLISHED-TTL:PT1H
BEGIN:VTIMEZONE
TZID:America/Chicago
BEGIN:DAYLIGHT
TZOFFSETFROM:-0600
TZOFFSETTO:-0500
TZNAME:CDT
DTSTART:20240310T080000
END:DAYLIGHT
BEGIN:STANDARD
TZOFFSETFROM:-0500
TZOFFSETTO:-0600
TZNAME:CST
DTSTART:20241103T070000
END:STANDARD
END:VTIMEZONE
BEGIN:VEVENT
DTSTART;TZID=America/Chicago:20241107T080000
DTEND;TZID=America/Chicago:20241107T170000
DTSTAMP:20260423T124117
CREATED:20240410T201133Z
LAST-MODIFIED:20240410T203211Z
UID:10000026-1730966400-1730998800@saveoursoundms.org
SUMMARY:Mississippi Department of Environmental Quality's Restoration Summit
DESCRIPTION:Join us to learn how you can get involved with restoration projects.The Mississippi Department of Environmental Quality is responsible for protecting the state’s air\, land\, and water. Their mission is to safeguard the health\, safety\, and welfare of present and future generations of Mississippians by conserving and improving our environment and fostering wise economic growth through focused research and responsible regulation.
URL:https://saveoursoundms.org/event/mississippi-department-of-environmental-qualitys-restoration-summit/
LOCATION:MGCC Hospitality Resort Management Center\, 420 Debuys Rd\, Biloxi\, 39531\, United States
ATTACH;FMTTYPE=image/jpeg:https://saveoursoundms.org/wp-content/uploads/2024/04/Restoration-Summit-event-cover.jpg
END:VEVENT
END:VCALENDAR