BEGIN:VCALENDAR
VERSION:2.0
PRODID:-//Mississippi Sound Coalition - ECPv6.6.3//NONSGML v1.0//EN
CALSCALE:GREGORIAN
METHOD:PUBLISH
X-WR-CALNAME:Mississippi Sound Coalition
X-ORIGINAL-URL:https://saveoursoundms.org
X-WR-CALDESC:Events for Mississippi Sound Coalition
REFRESH-INTERVAL;VALUE=DURATION:PT1H
X-Robots-Tag:noindex
X-PUBLISHED-TTL:PT1H
BEGIN:VTIMEZONE
TZID:America/Chicago
BEGIN:DAYLIGHT
TZOFFSETFROM:-0600
TZOFFSETTO:-0500
TZNAME:CDT
DTSTART:20240310T080000
END:DAYLIGHT
BEGIN:STANDARD
TZOFFSETFROM:-0500
TZOFFSETTO:-0600
TZNAME:CST
DTSTART:20241103T070000
END:STANDARD
END:VTIMEZONE
BEGIN:VEVENT
DTSTART;TZID=America/Chicago:20240511T100000
DTEND;TZID=America/Chicago:20240511T150000
DTSTAMP:20260423T222827
CREATED:20240423T173050Z
LAST-MODIFIED:20240424T144026Z
UID:10000029-1715421600-1715439600@saveoursoundms.org
SUMMARY:Marine Discovery Day
DESCRIPTION:Want to learn about shark biology or how shrimp are caught? Curious about Mississippi’s marine fishes? Then this is the event for you!  \nMDWF’s Mississippi Museum of Natural Science\, along with the Mississippi Department of Marine Resources and other coastal agencies and organizations\, will host fun and informative activities and demonstrations about Mississippi’s coastal resources\, the seafood industry\, and fishing! \nSo\, join us for a day of maritime fun as we explore the life of sharks and other marine fishes with our coastal biology experts! \n* This event is suitable for the whole family and is included with MMNS Foundation Membership or regular Museum admission. \nADMISSION: \n\nAdults: $8\nYouth (Ages 3-18): $6\nSenior Citizens 60 and Over: $7\nChildren Under 3: FREE\nSchool Teachers with Classes: $3 per student\n\nEXHIBITORS: \n\nLearn about coastal birds and their habitats\, including Least Terns\, a local nester on Mississippi’s beaches with Audubon Delta. The station will include hands-on materials\, a mock stewarding station\, and information about our bird banding projects.\nLearn about a living dinosaur with the USM Marine Education Center! The Gulf Sturgeon is a fascinating creature that calls the rivers and stream of Southern Mississippi its home. The Marine Education Center will be bringing their Surging Sturgeon activities to Marine Resources Day.\n\nEXHIBITORS AND ACTIVITIES INCLUDE: \n\nAudubon Delta: Learn about coastal birds and their habitats\, including Least Terns\, a local nester on Mississippi’s beaches. The station will include hands-on materials\, a mock stewarding station\, and information about bird banding projects.\n\nUSM Marine Education Center: Learn about a living dinosaur with their Surging Sturgeon activities! The Gulf Sturgeon is a fascinating creature that calls the rivers and streams of Southern Mississippi its home. \n\nCheck back soon for more.\n\n* Activities\, exhibitors\, and vendors\, subject to change.
URL:https://saveoursoundms.org/event/marine-discovery-day/
LOCATION:Mississippi Museum of Natural Science\, 2148 Riverside Dr\, Jackson\, MS\, 39202\, United States
ATTACH;FMTTYPE=image/jpeg:https://saveoursoundms.org/wp-content/uploads/2024/04/marine-day-discovery-600x400-1.jpg
END:VEVENT
END:VCALENDAR