BEGIN:VCALENDAR
VERSION:2.0
PRODID:-//Mississippi Sound Coalition - ECPv6.6.3//NONSGML v1.0//EN
CALSCALE:GREGORIAN
METHOD:PUBLISH
X-ORIGINAL-URL:https://saveoursoundms.org
X-WR-CALDESC:Events for Mississippi Sound Coalition
REFRESH-INTERVAL;VALUE=DURATION:PT1H
X-Robots-Tag:noindex
X-PUBLISHED-TTL:PT1H
BEGIN:VTIMEZONE
TZID:America/Chicago
BEGIN:DAYLIGHT
TZOFFSETFROM:-0600
TZOFFSETTO:-0500
TZNAME:CDT
DTSTART:20240310T080000
END:DAYLIGHT
BEGIN:STANDARD
TZOFFSETFROM:-0500
TZOFFSETTO:-0600
TZNAME:CST
DTSTART:20241103T070000
END:STANDARD
END:VTIMEZONE
BEGIN:VEVENT
DTSTART;TZID=America/Chicago:20240222T083000
DTEND;TZID=America/Chicago:20240222T113000
DTSTAMP:20260424T031457
CREATED:20240429T193944Z
LAST-MODIFIED:20240429T193944Z
UID:10000035-1708590600-1708601400@saveoursoundms.org
SUMMARY:Gulf Coast Business Council: Mississippi Sound Coalition Panel Discussion
DESCRIPTION:Leaders of the Mississippi Sound Coalition participate in a panel discussion moderated by Gulf Coast Business Council (GCBC) President & CEO Jamie Miller to provide updates on the Coalition’s latest efforts. MSSC has teamed up with Senator Roger Wicker at the GCBC meeting to urge local business leaders to support the Coalition’s mission to protect and restore the Mississippi Sound and the livelihoods of those who call the coast home.
URL:https://saveoursoundms.org/event/gulf-coast-business-council-mississippi-sound-coalition-panel-discussion/
LOCATION:Knight Nonprofit Center\, 11975 Seaway Rd\, Gulfport\, MS\, 39503\, United States
ATTACH;FMTTYPE=image/jpeg:https://saveoursoundms.org/wp-content/uploads/2024/04/gcbc-mssc-cover-pic-for-event.jpg
END:VEVENT
END:VCALENDAR