BEGIN:VCALENDAR
VERSION:2.0
PRODID:-//Mississippi Sound Coalition - ECPv6.6.3//NONSGML v1.0//EN
CALSCALE:GREGORIAN
METHOD:PUBLISH
X-ORIGINAL-URL:https://saveoursoundms.org
X-WR-CALDESC:Events for Mississippi Sound Coalition
REFRESH-INTERVAL;VALUE=DURATION:PT1H
X-Robots-Tag:noindex
X-PUBLISHED-TTL:PT1H
BEGIN:VTIMEZONE
TZID:America/Chicago
BEGIN:DAYLIGHT
TZOFFSETFROM:-0600
TZOFFSETTO:-0500
TZNAME:CDT
DTSTART:20240310T080000
END:DAYLIGHT
BEGIN:STANDARD
TZOFFSETFROM:-0500
TZOFFSETTO:-0600
TZNAME:CST
DTSTART:20241103T070000
END:STANDARD
END:VTIMEZONE
BEGIN:VEVENT
DTSTART;TZID=America/Chicago:20240122T110000
DTEND;TZID=America/Chicago:20240122T120000
DTSTAMP:20260424T044419
CREATED:20240408T142912Z
LAST-MODIFIED:20240410T203419Z
UID:10000025-1705921200-1705924800@saveoursoundms.org
SUMMARY:Press Conference Mississippi Sound Coalition January 2024
DESCRIPTION:The Mississippi Sound Coalition held a press conference announcing the lawsuit filed on January 22\, 2024 against the U.S. Corps of Engineers. Watch the press conference of the Mississippi Sound Coalition announcing the Marine Mammal Protection Act Lawsuit.
URL:https://saveoursoundms.org/event/press-conference-mississippi-sound-coalition-january-2024/
LOCATION:Harrison County Courthouse\, 1801 23rd Ave\, Gulfport\, 39501\, United States
ATTACH;FMTTYPE=image/jpeg:https://saveoursoundms.org/wp-content/uploads/2024/04/Press-Conference-event-cover.jpg
END:VEVENT
END:VCALENDAR