BEGIN:VCALENDAR
VERSION:2.0
PRODID:-//Mississippi Sound Coalition - ECPv6.6.3//NONSGML v1.0//EN
CALSCALE:GREGORIAN
METHOD:PUBLISH
X-WR-CALNAME:Mississippi Sound Coalition
X-ORIGINAL-URL:https://saveoursoundms.org
X-WR-CALDESC:Events for Mississippi Sound Coalition
REFRESH-INTERVAL;VALUE=DURATION:PT1H
X-Robots-Tag:noindex
X-PUBLISHED-TTL:PT1H
BEGIN:VTIMEZONE
TZID:America/Chicago
BEGIN:DAYLIGHT
TZOFFSETFROM:-0600
TZOFFSETTO:-0500
TZNAME:CDT
DTSTART:20240310T080000
END:DAYLIGHT
BEGIN:STANDARD
TZOFFSETFROM:-0500
TZOFFSETTO:-0600
TZNAME:CST
DTSTART:20241103T070000
END:STANDARD
END:VTIMEZONE
BEGIN:VEVENT
DTSTART;TZID=America/Chicago:20240114T080000
DTEND;TZID=America/Chicago:20240114T090000
DTSTAMP:20260424T043922
CREATED:20240429T185428Z
LAST-MODIFIED:20240429T185635Z
UID:10000033-1705219200-1705222800@saveoursoundms.org
SUMMARY:MSSC Leader Gerald Blessey Sits Down with WLOX's Dave Elliot
DESCRIPTION:MSSC leader Gerald Blessey sits down with WLOX’s Dave Elliott to discuss the Coalition’s recent efforts to #SaveOurSound. \nWatch the full interview here.
URL:https://saveoursoundms.org/event/mssc-leader-gerald-blessey-sits-down-with-wloxs-dave-elliot/
ATTACH;FMTTYPE=image/jpeg:https://saveoursoundms.org/wp-content/uploads/2024/04/Gerald-Blessy-WLOX-Interview-Image-with-Dave-Elliot.jpg
END:VEVENT
END:VCALENDAR